Workbook

Sheet Sellers
A1: Raffle ticket sales tracker
A2: One row per book. Fill the shaded columns; the rest works itself out.
A3: Ticket price | B3: 5 | C3: Draw date
A4: Privacy: Sellers’ phone numbers are only for organising this raffle, and buyers’ details on ticket butts are only for contacting winners. Keep this file to the organisers and delete the phone numbers once every book is reconciled.
A5: Seller | B5: Phone | C5: First ticket no. | D5: Last ticket no. | E5: Tickets in book | F5: Tickets sold | G5: Unsold returned | H5: Money due | I5: Money in | J5: Still owing | K5: Book balanced? | L5: Notes
E6: =IF(OR(C6="",D6=""),"",D6-C6+1) | H6: =IF(F6="","",F6*$B$3) | J6: =IF(H6="","",H6-N(I6)) | K6: =IF(E6="","",IF(N(F6)+N(G6)=E6,IF(N(J6)=0,"Balanced","Money owing"),"Tickets missing"))
E7: =IF(OR(C7="",D7=""),"",D7-C7+1) | H7: =IF(F7="","",F7*$B$3) | J7: =IF(H7="","",H7-N(I7)) | K7: =IF(E7="","",IF(N(F7)+N(G7)=E7,IF(N(J7)=0,"Balanced","Money owing"),"Tickets missing"))
E8: =IF(OR(C8="",D8=""),"",D8-C8+1) | H8: =IF(F8="","",F8*$B$3) | J8: =IF(H8="","",H8-N(I8)) | K8: =IF(E8="","",IF(N(F8)+N(G8)=E8,IF(N(J8)=0,"Balanced","Money owing"),"Tickets missing"))
E9: =IF(OR(C9="",D9=""),"",D9-C9+1) | H9: =IF(F9="","",F9*$B$3) | J9: =IF(H9="","",H9-N(I9)) | K9: =IF(E9="","",IF(N(F9)+N(G9)=E9,IF(N(J9)=0,"Balanced","Money owing"),"Tickets missing"))
E10: =IF(OR(C10="",D10=""),"",D10-C10+1) | H10: =IF(F10="","",F10*$B$3) | J10: =IF(H10="","",H10-N(I10)) | K10: =IF(E10="","",IF(N(F10)+N(G10)=E10,IF(N(J10)=0,"Balanced","Money owing"),"Tickets missing"))
E11: =IF(OR(C11="",D11=""),"",D11-C11+1) | H11: =IF(F11="","",F11*$B$3) | J11: =IF(H11="","",H11-N(I11)) | K11: =IF(E11="","",IF(N(F11)+N(G11)=E11,IF(N(J11)=0,"Balanced","Money owing"),"Tickets missing"))
E12: =IF(OR(C12="",D12=""),"",D12-C12+1) | H12: =IF(F12="","",F12*$B$3) | J12: =IF(H12="","",H12-N(I12)) | K12: =IF(E12="","",IF(N(F12)+N(G12)=E12,IF(N(J12)=0,"Balanced","Money owing"),"Tickets missing"))
E13: =IF(OR(C13="",D13=""),"",D13-C13+1) | H13: =IF(F13="","",F13*$B$3) | J13: =IF(H13="","",H13-N(I13)) | K13: =IF(E13="","",IF(N(F13)+N(G13)=E13,IF(N(J13)=0,"Balanced","Money owing"),"Tickets missing"))
E14: =IF(OR(C14="",D14=""),"",D14-C14+1) | H14: =IF(F14="","",F14*$B$3) | J14: =IF(H14="","",H14-N(I14)) | K14: =IF(E14="","",IF(N(F14)+N(G14)=E14,IF(N(J14)=0,"Balanced","Money owing"),"Tickets missing"))
E15: =IF(OR(C15="",D15=""),"",D15-C15+1) | H15: =IF(F15="","",F15*$B$3) | J15: =IF(H15="","",H15-N(I15)) | K15: =IF(E15="","",IF(N(F15)+N(G15)=E15,IF(N(J15)=0,"Balanced","Money owing"),"Tickets missing"))
E16: =IF(OR(C16="",D16=""),"",D16-C16+1) | H16: =IF(F16="","",F16*$B$3) | J16: =IF(H16="","",H16-N(I16)) | K16: =IF(E16="","",IF(N(F16)+N(G16)=E16,IF(N(J16)=0,"Balanced","Money owing"),"Tickets missing"))
E17: =IF(OR(C17="",D17=""),"",D17-C17+1) | H17: =IF(F17="","",F17*$B$3) | J17: =IF(H17="","",H17-N(I17)) | K17: =IF(E17="","",IF(N(F17)+N(G17)=E17,IF(N(J17)=0,"Balanced","Money owing"),"Tickets missing"))
... E105: =IF(OR(C105="",D105=""),"",D105-C105+1) | H105: =IF(F105="","",F105*$B$3) | J105: =IF(H105="","",H105-N(I105)) | K105: =IF(E105="","",IF(N(F105)+N(G105)=E105,IF(N(J105)=0,"Balanced","Money owing"),"Tickets missing"))

Sheet Summary
A1: Raffle summary
A2: Check this before the draw: every book back, every dollar in.
A4: Books out | B4: =COUNTA(Sellers!A6:A105)
A5: Tickets issued | B5: =SUM(Sellers!E6:E105)
A6: Tickets sold | B6: =SUM(Sellers!F6:F105)
A7: Unsold returned | B7: =SUM(Sellers!G6:G105)
A8: Tickets not yet accounted for | B8: =B5-B6-B7
A9: Money due | B9: =SUM(Sellers!H6:H105)
A10: Money in | B10: =SUM(Sellers!I6:I105)
A11: Still owing | B11: =B9-B10
A12: Books balanced | B12: =COUNTIF(Sellers!K6:K105,"Balanced")
A15: Only sold tickets go in the draw. Sell in person only: never by Facebook comments or bank transfer.
A16: Free printed raffle tickets, seller tracking and a public draw: /raffles on the For Goods Sake site.
A17: Privacy: Sellers’ phone numbers are only for organising this raffle, and buyers’ details on ticket butts are only for contacting winners. Keep this file to the organisers and delete the phone numbers once every book is reconciled.
A18: From the free fundraising guide by For Goods Sake. General information, not financial or legal advice.
